BEGIN:VCALENDAR
VERSION:2.0
PRODID:-//Wauchope Chamber - ECPv6.9.1//NONSGML v1.0//EN
CALSCALE:GREGORIAN
METHOD:PUBLISH
X-WR-CALNAME:Wauchope Chamber
X-ORIGINAL-URL:https://wauchopechamber.com.au
X-WR-CALDESC:Events for Wauchope Chamber
REFRESH-INTERVAL;VALUE=DURATION:PT1H
X-Robots-Tag:noindex
X-PUBLISHED-TTL:PT1H
BEGIN:VTIMEZONE
TZID:Australia/Sydney
BEGIN:STANDARD
TZOFFSETFROM:+1100
TZOFFSETTO:+1000
TZNAME:AEST
DTSTART:20230401T160000
END:STANDARD
BEGIN:DAYLIGHT
TZOFFSETFROM:+1000
TZOFFSETTO:+1100
TZNAME:AEDT
DTSTART:20230930T160000
END:DAYLIGHT
END:VTIMEZONE
BEGIN:VEVENT
DTSTART;TZID=Australia/Sydney:20230208T071500
DTEND;TZID=Australia/Sydney:20230208T071500
DTSTAMP:20260421T222509
CREATED:20230119T001734Z
LAST-MODIFIED:20230120T232918Z
UID:3437-1675840500-1675840500@wauchopechamber.com.au
SUMMARY:February Networking Breakfast
DESCRIPTION:Please join us at the Wauchope Art Gallery on Wednesday the 8th of February from 7.15am for a networking breakfast! \nWe will be celebrating the 1 year anniversary of Wauchope Art Gallery as well as listening to award-winning educator\, life-coach and entrepreneur\, Andrew Lord! \nYou wont want to miss this! Breakfast refreshments will be provided. \nBook your tickets today!
URL:https://wauchopechamber.com.au/event/february-networking-breakfast/
LOCATION:Wauchope Art Gallery\, 62 Cameron St\, Wauchope\, NSW\, 2446\, Australia
CATEGORIES:Gallery
ATTACH;FMTTYPE=image/png:https://wauchopechamber.com.au/wp-content/uploads/2023/01/Tile.png
ORGANIZER;CN="Wauchope Chamber of Commerce and Industry Inc":MAILTO:wauchopechamber@gmail.com
END:VEVENT
END:VCALENDAR