BEGIN:VCALENDAR
VERSION:2.0
PRODID:-//Wauchope Chamber - ECPv6.9.1//NONSGML v1.0//EN
CALSCALE:GREGORIAN
METHOD:PUBLISH
X-WR-CALNAME:Wauchope Chamber
X-ORIGINAL-URL:https://wauchopechamber.com.au
X-WR-CALDESC:Events for Wauchope Chamber
REFRESH-INTERVAL;VALUE=DURATION:PT1H
X-Robots-Tag:noindex
X-PUBLISHED-TTL:PT1H
BEGIN:VTIMEZONE
TZID:Australia/Sydney
BEGIN:STANDARD
TZOFFSETFROM:+1100
TZOFFSETTO:+1000
TZNAME:AEST
DTSTART:20220402T160000
END:STANDARD
BEGIN:DAYLIGHT
TZOFFSETFROM:+1000
TZOFFSETTO:+1100
TZNAME:AEDT
DTSTART:20221001T160000
END:DAYLIGHT
BEGIN:STANDARD
TZOFFSETFROM:+1100
TZOFFSETTO:+1000
TZNAME:AEST
DTSTART:20230401T160000
END:STANDARD
BEGIN:DAYLIGHT
TZOFFSETFROM:+1000
TZOFFSETTO:+1100
TZNAME:AEDT
DTSTART:20230930T160000
END:DAYLIGHT
END:VTIMEZONE
BEGIN:VEVENT
DTSTART;VALUE=DATE:20221220
DTEND;VALUE=DATE:20230115
DTSTAMP:20260421T234854
CREATED:20221124T232053Z
LAST-MODIFIED:20221127T074032Z
UID:3235-1671494400-1673740799@wauchopechamber.com.au
SUMMARY:Artist Choice Exhibition
DESCRIPTION:Artists from the Hastings region are invited to submit an Expression of Interest (EOI) for an â€œArtistâ€™s Choiceâ€ Exhibition which will be on display in December at the Wauchope Art Gallery\, 62 Cameron St Wauchope. \nThe Exhibition aims to showcase local Artists best / favourite works. The works must be available to display in the Gallery during the Exhibition period. \nArtwork of all kinds can be submitted whether it be 2D or 3D\, as long as it can fit through the Gallery doors!\n \nArtists can find out more and submit their EOI here:Â https://www.surveymonkey.com/r/ArtistsChoiceEOI \n\nExpression of Interest closes 7th December 2022!
URL:https://wauchopechamber.com.au/event/artist-choice-exhibition/
LOCATION:Wauchope Art Gallery\, 62 Cameron St\, Wauchope\, NSW\, 2446\, Australia
CATEGORIES:Community Event,Gallery,Wauchope Art Gallery
ATTACH;FMTTYPE=image/jpeg:https://wauchopechamber.com.au/wp-content/uploads/2022/11/ARTISTS-CHOICE-1600-x-1200-FB-Cover.jpg
ORGANIZER;CN="Wauchope Art Gallery":MAILTO:wauchopechamber@gmail.com
END:VEVENT
BEGIN:VEVENT
DTSTART;TZID=Australia/Sydney:20230125T180000
DTEND;TZID=Australia/Sydney:20230125T203000
DTSTAMP:20260421T234854
CREATED:20230119T233651Z
LAST-MODIFIED:20230123T224032Z
UID:3440-1674669600-1674678600@wauchopechamber.com.au
SUMMARY:Optus Outdoor Movie Night!
DESCRIPTION:FREE OUTDOOR MOVIE NIGHT! ðŸŽ¥\n\n\nÂ \n\n\nHow does a free movie and ice cream sound overlooking the stunning Hastings River?! If you think it sounds pretty good\, then come and join us on Wednesday\, 25th January at Rocks Ferry Reserve\, Wauchope commencing 6pm! \n\n\nÂ \n\n\nWe have joined forces with Optus to bring Wauchope this great event\, just before school goes back! Just bring a blanket or chair. \n\n\n Please assist us to host a sustainable event by bringing reusable drink and food containers and taking home any recyclable items for disposal in your yellow recycle bin.\n\n\n\nMovie screened will be Matilda The Musical (2022). See you there!\n\n\nÂ \n\n\nðŸ“…Wednesday\, 25th January 2023\n\n\nâ±Commencing at 6.00pm\n\n\nðŸ“Rocks Ferry Reserve\, Wauchope
URL:https://wauchopechamber.com.au/event/optus-outdoor-movie-night/
LOCATION:Rocks Ferry Reserve\, Wauchope\, Rocks Ferry Road\, Wauchope\, NSW\, 2446\, Australia
CATEGORIES:Chamber Event,Community Event
ATTACH;FMTTYPE=image/png:https://wauchopechamber.com.au/wp-content/uploads/2023/01/Updated-tile.png
ORGANIZER;CN="Wauchope Chamber of Commerce and Industry Inc":MAILTO:wauchopechamber@gmail.com
END:VEVENT
END:VCALENDAR