BEGIN:VCALENDAR
VERSION:2.0
PRODID:-//Wauchope Chamber - ECPv6.9.1//NONSGML v1.0//EN
CALSCALE:GREGORIAN
METHOD:PUBLISH
X-WR-CALNAME:Wauchope Chamber
X-ORIGINAL-URL:https://wauchopechamber.com.au
X-WR-CALDESC:Events for Wauchope Chamber
REFRESH-INTERVAL;VALUE=DURATION:PT1H
X-Robots-Tag:noindex
X-PUBLISHED-TTL:PT1H
BEGIN:VTIMEZONE
TZID:Australia/Sydney
BEGIN:STANDARD
TZOFFSETFROM:+1100
TZOFFSETTO:+1000
TZNAME:AEST
DTSTART:20220402T160000
END:STANDARD
BEGIN:DAYLIGHT
TZOFFSETFROM:+1000
TZOFFSETTO:+1100
TZNAME:AEDT
DTSTART:20221001T160000
END:DAYLIGHT
BEGIN:STANDARD
TZOFFSETFROM:+1100
TZOFFSETTO:+1000
TZNAME:AEST
DTSTART:20230401T160000
END:STANDARD
BEGIN:DAYLIGHT
TZOFFSETFROM:+1000
TZOFFSETTO:+1100
TZNAME:AEDT
DTSTART:20230930T160000
END:DAYLIGHT
END:VTIMEZONE
BEGIN:VEVENT
DTSTART;VALUE=DATE:20221116
DTEND;VALUE=DATE:20221211
DTSTAMP:20260422T012025
CREATED:20221124T231812Z
LAST-MODIFIED:20221124T231812Z
UID:3229-1668556800-1670716799@wauchopechamber.com.au
SUMMARY:Three Women from the Bush Exhibition
DESCRIPTION:Three Women from the Bush â€“ Friends\, Artists\, Activists \nVisit Wauchope Gallery from November 16th until December 10th to view this great exhibition. \nRecent works by Hastings artists Jacky Beckhurst\, Jo Davidson and Colleen Werner will be on display including drawings\, paintings\, prints and textiles. \nAll artists are long term residents of the Upper Hastings\, these three friends\, artists and activists have been inspired by our beautiful country and each other for the last 35 years\, be it through the Bagnoo print making workshop run by artist Tarpie Watts\, exhibitions at the Glasshouse in Port Macquarie and Blue Poles Byabarra\, workshops for Wauchope Arts and Aquasculpture or years of teaching art at TAFE.\nJacky Beckhurst\, Jo Davidson and Colleen Werner have witnessed and endured first hand the ravages of drought\, fire\, floods and the pandemic\, as neighbours whole heartedly committed to the preservation and protection of our Land. Their art speaks of this dedication and love of Country\, and a clear choice to live amongst and experience the natural world. \nPlease join the artists at the official opening on Sat 19th November from 11am-1.00pm with Councillor Lisa Intemann officially opening the exhibition at 11am. \nVisit the Gallery on 19th of November\, 26th of November\, 3rd of December and 10th of December to meet the artists!
URL:https://wauchopechamber.com.au/event/three-women-from-the-bush-exhibition/
LOCATION:Wauchope Art Gallery\, 62 Cameron St\, Wauchope\, NSW\, 2446\, Australia
CATEGORIES:Gallery,Wauchope Art Gallery
ATTACH;FMTTYPE=image/jpeg:https://wauchopechamber.com.au/wp-content/uploads/2022/11/3-women-from-the-bush_.jpg
ORGANIZER;CN="Wauchope Art Gallery":MAILTO:wauchopechamber@gmail.com
END:VEVENT
BEGIN:VEVENT
DTSTART;TZID=Australia/Sydney:20221201T180000
DTEND;TZID=Australia/Sydney:20221201T200000
DTSTAMP:20260422T012025
CREATED:20221124T205157Z
LAST-MODIFIED:20221127T073615Z
UID:3209-1669917600-1669924800@wauchopechamber.com.au
SUMMARY:Annual Combined Networks Christmas Party
DESCRIPTION:Please join for our Annual Combined Business Networks Christmas Party.Â  You are invited to come along for the last event of the year as we celebrate with our wonderful and resilient local business community.Â  Bring along cash or your card to purchase raffle tickets on the evening.Â Â Proceeds from the raffles and a percentage of the ticket cost will go directory to one of our amazing local charities\, Make a Difference Port Macquarie. \nWhen:Â  Thursday\, 1 December 2022 from 6pm to 8pm \nWhere:Â  Hello Sailor\, Port Marina\, Port Macquarie \nCost:Â Â $35 for everyoneÂ (includes welcome drink\, canapesÂ and presentation). \nThe combined business networks are:
URL:https://wauchopechamber.com.au/event/annual-combined-networks-christmas-party/
LOCATION:Hello Sailor\, Port Macquarie\, Australia
CATEGORIES:Business Event,Chamber Event
ATTACH;FMTTYPE=image/png:https://wauchopechamber.com.au/wp-content/uploads/2022/11/Combined-Business-Networks-Christmas-Party-banner-1-December-2022.png
END:VEVENT
BEGIN:VEVENT
DTSTART;TZID=Australia/Sydney:20221202T150000
DTEND;TZID=Australia/Sydney:20221202T210000
DTSTAMP:20260422T012025
CREATED:20221124T210405Z
LAST-MODIFIED:20221124T210506Z
UID:3213-1669993200-1670014800@wauchopechamber.com.au
SUMMARY:Beechwood Community Christmas Event
DESCRIPTION:Beechwood P&C are hosting a community connection event – bringing our community together after more than two years of being apart.\nThis event is for everyone – free entry\, free entertainment\, food vans to purchase from\, children’s entertainment and activities\, and more. \nBeechwood Public School will be providing a performance at 6pm and there’s likely to be a jolly man in red show up too.\nWe are also on the look out for people who would like to come on board and support our community at this event. \nAny community groups who would like to participate in some way\, please get in touch with them – they want this event to support all community members!
URL:https://wauchopechamber.com.au/event/beechwood-community-christmas-event/
LOCATION:Beechwood Recreation Reserve\, Bellangry Road\, Beechwood\, Australia
CATEGORIES:Community Event
ATTACH;FMTTYPE=image/jpeg:https://wauchopechamber.com.au/wp-content/uploads/2022/11/Beechwood-Community-Christmas.jpg
ORGANIZER;CN="Beechwood Primary P&C":MAILTO:beechwoodpandc@gmail.com
END:VEVENT
BEGIN:VEVENT
DTSTART;TZID=Australia/Sydney:20221207T180000
DTEND;TZID=Australia/Sydney:20221207T193000
DTSTAMP:20260422T012025
CREATED:20221123T045423Z
LAST-MODIFIED:20221124T211559Z
UID:3085-1670436000-1670441400@wauchopechamber.com.au
SUMMARY:Wauchope Chamber AGM & Christmas Party
DESCRIPTION:Please join us on the 7th of December 2022 at Wauchope Art Gallery for the Wauchope Chamber of Commerce and Industry’s AGM and Christmas party! \nFrom 6.00pm for a 6.30pm start\, the AGM will commence which will be followed by an opportunity to network with community members and catch up before the Christmas break. \nTickets are $25 for members and $30 for non members. \nFood will be provided as well as 2 complimentary drinks. \nPlease bring a gift to the value of $10 for kris kringle! \nANNUAL GENERAL MEETING NOTICE: \nMembers are advised the Wauchope Chamber of Commerce Annual General Meeting will be held at 6.30pm on Wednesday 7th December 2022 at Wauchope Art Gallery\, 62 Cameron Street\, Wauchope NSW 2446.Nominations by Members for a position on the Executive Committee need to be completed using the Committee Nomination form below and received by the Chamber by 6.30pm Wednesday 30 November 2022 via email to wauchopechamber@gmail.com or received by post to PO BOX 270\, WAUCHOPE NSW 2446. \nWCC_Committee_Nomination_Form_2022 \nWCCI AGM AGENDA YR2022
URL:https://wauchopechamber.com.au/event/wauchope-chamber-agm-christmas-party/
LOCATION:Wauchope Art Gallery\, 62 Cameron St\, Wauchope\, NSW\, 2446\, Australia
CATEGORIES:Chamber Event
ATTACH;FMTTYPE=image/png:https://wauchopechamber.com.au/wp-content/uploads/2022/11/AGM-Invite.png
ORGANIZER;CN="Wauchope Chamber of Commerce and Industry Inc":MAILTO:wauchopechamber@gmail.com
END:VEVENT
BEGIN:VEVENT
DTSTART;VALUE=DATE:20221213
DTEND;VALUE=DATE:20221218
DTSTAMP:20260422T012025
CREATED:20221124T231951Z
LAST-MODIFIED:20221124T231951Z
UID:3233-1670889600-1671321599@wauchopechamber.com.au
SUMMARY:TAFE Aboriginal Artist Exhibition
DESCRIPTION:Details coming soon!
URL:https://wauchopechamber.com.au/event/tafe-aboriginal-artist-exhibition/
LOCATION:Wauchope Art Gallery\, 62 Cameron St\, Wauchope\, NSW\, 2446\, Australia
CATEGORIES:Community Event,Gallery,Wauchope Art Gallery
ORGANIZER;CN="Wauchope Art Gallery":MAILTO:wauchopechamber@gmail.com
END:VEVENT
BEGIN:VEVENT
DTSTART;TZID=Australia/Sydney:20221215T170000
DTEND;TZID=Australia/Sydney:20221215T200000
DTSTAMP:20260422T012025
CREATED:20221124T020015Z
LAST-MODIFIED:20221124T025442Z
UID:3098-1671123600-1671134400@wauchopechamber.com.au
SUMMARY:Wauchope and Hinterland Christmas in the CBD
DESCRIPTION:Head to the Wauchope CBD on Thursday 15th December 2022\, 5-8pm for a night of all things Christmas! \n\nGet your Christmas shopping done!\nGrab a meal or drink with family and friends at one of our fabulous food outlets\nActivities for the kids\nDress up in your Christmas bling\nLive music around town\n\nMore information coming soon… \nGO TO THE EVENT PAGE HEREÂ \n 
URL:https://wauchopechamber.com.au/event/wauchope-and-hinterland-christmas-in-the-cbd/
LOCATION:NSW
CATEGORIES:Business Event,Chamber Event,Community Event
ATTACH;FMTTYPE=image/png:https://wauchopechamber.com.au/wp-content/uploads/2022/11/2022XMAS_CBD_A4crop.png
ORGANIZER;CN="Wauchope Chamber of Commerce and Industry Inc":MAILTO:wauchopechamber@gmail.com
END:VEVENT
BEGIN:VEVENT
DTSTART;TZID=Australia/Sydney:20221218T173000
DTEND;TZID=Australia/Sydney:20221218T173000
DTSTAMP:20260422T012025
CREATED:20221124T231051Z
LAST-MODIFIED:20221209T014149Z
UID:3224-1671384600-1671384600@wauchopechamber.com.au
SUMMARY:Carols at the Beach
DESCRIPTION:Carols at the beach! \nWhere: Wauchope-Bonny Hills Surf Life Saving Club \nWhen: 18 December 2022 at 5.30pm
URL:https://wauchopechamber.com.au/event/carols-at-the-beach/
LOCATION:Wauchope-Bonny Hills Surf Life Saving Club\, 6 Beach Street\,\, Bonny Hills\, NSW\, Australia
CATEGORIES:Community Event
ATTACH;FMTTYPE=image/jpeg:https://wauchopechamber.com.au/wp-content/uploads/2022/11/Carols-WBHSLSC-insta.jpg
ORGANIZER;CN="Wauchope-Bonny Hills Surf Life Saving Club":MAILTO:wbhslsc@gmail.com
END:VEVENT
BEGIN:VEVENT
DTSTART;VALUE=DATE:20221220
DTEND;VALUE=DATE:20230115
DTSTAMP:20260422T012025
CREATED:20221124T232053Z
LAST-MODIFIED:20221127T074032Z
UID:3235-1671494400-1673740799@wauchopechamber.com.au
SUMMARY:Artist Choice Exhibition
DESCRIPTION:Artists from the Hastings region are invited to submit an Expression of Interest (EOI) for an â€œArtistâ€™s Choiceâ€ Exhibition which will be on display in December at the Wauchope Art Gallery\, 62 Cameron St Wauchope. \nThe Exhibition aims to showcase local Artists best / favourite works. The works must be available to display in the Gallery during the Exhibition period. \nArtwork of all kinds can be submitted whether it be 2D or 3D\, as long as it can fit through the Gallery doors!\n \nArtists can find out more and submit their EOI here:Â https://www.surveymonkey.com/r/ArtistsChoiceEOI \n\nExpression of Interest closes 7th December 2022!
URL:https://wauchopechamber.com.au/event/artist-choice-exhibition/
LOCATION:Wauchope Art Gallery\, 62 Cameron St\, Wauchope\, NSW\, 2446\, Australia
CATEGORIES:Community Event,Gallery,Wauchope Art Gallery
ATTACH;FMTTYPE=image/jpeg:https://wauchopechamber.com.au/wp-content/uploads/2022/11/ARTISTS-CHOICE-1600-x-1200-FB-Cover.jpg
ORGANIZER;CN="Wauchope Art Gallery":MAILTO:wauchopechamber@gmail.com
END:VEVENT
BEGIN:VEVENT
DTSTART;TZID=Australia/Sydney:20221221T173000
DTEND;TZID=Australia/Sydney:20221221T173000
DTSTAMP:20260422T012025
CREATED:20221124T211105Z
LAST-MODIFIED:20221124T211512Z
UID:3218-1671643800-1671643800@wauchopechamber.com.au
SUMMARY:Christmas on the Green
DESCRIPTION:Join Wauchope Country Club for the Annual Christmas on the Green.\nFun for the whole family!! \nBring a picnic blanket or some chairs and enjoy the evening together. \n\nVisit from Santa\nBedford Fire Engine\nFace painting\nKids play activities\nChristmas Carols\nSausage sizzle\nBar & food specials\nGold coin donation per attraction.\n\n 
URL:https://wauchopechamber.com.au/event/christmas-on-the-green/
LOCATION:Wauchope Country Club\, King St\, Wauchope\, NSW\, 2446\, Australia
CATEGORIES:Community Event
ATTACH;FMTTYPE=image/jpeg:https://wauchopechamber.com.au/wp-content/uploads/2022/11/Country-club-christmas-on-the-green.jpg
ORGANIZER;CN="Wauchope Country Club":MAILTO:admin@wauchopecc.com.au
END:VEVENT
END:VCALENDAR