BEGIN:VCALENDAR
VERSION:2.0
PRODID:-//Wauchope Chamber - ECPv6.9.1//NONSGML v1.0//EN
CALSCALE:GREGORIAN
METHOD:PUBLISH
X-WR-CALNAME:Wauchope Chamber
X-ORIGINAL-URL:https://wauchopechamber.com.au
X-WR-CALDESC:Events for Wauchope Chamber
REFRESH-INTERVAL;VALUE=DURATION:PT1H
X-Robots-Tag:noindex
X-PUBLISHED-TTL:PT1H
BEGIN:VTIMEZONE
TZID:Australia/Sydney
BEGIN:STANDARD
TZOFFSETFROM:+1100
TZOFFSETTO:+1000
TZNAME:AEST
DTSTART:20220402T160000
END:STANDARD
BEGIN:DAYLIGHT
TZOFFSETFROM:+1000
TZOFFSETTO:+1100
TZNAME:AEDT
DTSTART:20221001T160000
END:DAYLIGHT
END:VTIMEZONE
BEGIN:VEVENT
DTSTART;TZID=Australia/Sydney:20220602T100000
DTEND;TZID=Australia/Sydney:20220626T150000
DTSTAMP:20260422T133903
CREATED:20220607T031559Z
LAST-MODIFIED:20220607T031859Z
UID:1740-1654164000-1656255600@wauchopechamber.com.au
SUMMARY:Salon des Refuses Exhibition @Wauchope Art Gallery
DESCRIPTION:The June Exhibition at the Wauchope Art Gallery celebrates refused artworks that have been rejected from a Public Exhibition in the last five years. \nSo what is Salon des RefusÃ©s\, I hear you say?â€¦ \nLetâ€™s go back to 1863â€¦\nOriginating in 1667 the word â€˜Salonâ€™ refers to an official exhibition of art sponsored by the French government. Moving forward to 1863 there was protest by artists whose work had been rejected by the official Salon. Emperor Napoleon III ordered a special exhibition for the refused artworks which included works from Manet\, CÃ©zanne\, Camille Pissarro\, and Whistler. \nThe Exhibition known as the Salon des RefusÃ©s (French: Salon of the Refused) was a turning point in the history of art and paved the way for new artistic styles to come into recognition. Empowered artists began to arrange their own exhibitions and the importance of Art dealers grew.
URL:https://wauchopechamber.com.au/event/salon-des-refuses-exhibition-wauchope-art-gallery/
LOCATION:Wauchope Art Gallery\, 62 Cameron St\, Wauchope\, NSW\, 2446\, Australia
CATEGORIES:Chamber Event,Community Event,Gallery
ORGANIZER;CN="Wauchope Chamber":MAILTO:wauchopechamber@gmail.com
END:VEVENT
BEGIN:VEVENT
DTSTART;TZID=Australia/Sydney:20220608T083000
DTEND;TZID=Australia/Sydney:20220608T103000
DTSTAMP:20260422T133903
CREATED:20220508T235825Z
LAST-MODIFIED:20220509T002649Z
UID:1669-1654677000-1654684200@wauchopechamber.com.au
SUMMARY:WORKPLACE UPDATE SEMINAR PORT MACQUARIE WEDNESDAY 8 JUNE 2022
DESCRIPTION:Are you crystal clear on your legal responsibility as an employer or manager?\nThe ground has shifted. In the past 2 years\, a number of landmark court decisions have sent shockwaves through the industrial relations landscape. Business is grappling with uncertainty and the risk of getting it wrong.\nIn this workplace update seminar\, award winning law @rm\, Australian Business Lawyers & Advisors (ABLA) will present the essential\, â€˜need-to-knowâ€™ workplace update.\nWhether youâ€™re running operations\, overseeing HR\, or managing people\, this event is your workplace compliance â€˜health checkâ€™ for 2022. \n  \nEvent Details\nDate: Wednesday 8 June 2022\nTime: 8:30 am – 10:30 am\nVenue: The Westport Club\n25 Buller Street\, Port Macquarie\nCost: $25.00 (incl GST)\nRSVP: 1 June 2022\nRegister here:\nhttps://cvent.me/xvvDWZ
URL:https://wauchopechamber.com.au/event/workplace-update-seminar-port-macquarie-wednesday-8-june-2022/
LOCATION:The Westport Club
CATEGORIES:Business Event
ATTACH;FMTTYPE=image/jpeg:https://wauchopechamber.com.au/wp-content/uploads/2022/05/Workplace-Update-Flyer-Port-Macquarie-8-June-2022-page-001-scaled.jpg
END:VEVENT
BEGIN:VEVENT
DTSTART;TZID=Australia/Sydney:20220611T180000
DTEND;TZID=Australia/Sydney:20220611T210000
DTSTAMP:20260422T133903
CREATED:20220607T022820Z
LAST-MODIFIED:20220607T030653Z
UID:1729-1654970400-1654981200@wauchopechamber.com.au
SUMMARY:Culinary Canvas Progressive Dinner & Art Auction
DESCRIPTION:CULINARY CANVAS Progressive Dinner & Art Auction\, Sat 11 June 6pm\n3 COURSES | 3 VENUES | LIVE ENTERTAINMENT | ART AUCTION | LIMITED TICKETS \nWander Wauchope from 6pm Sat 11 June 2022 as you savour the flavours of your 3-course Progressive Dinner. Your Dinner venues will be showcasing creativity through music or art at each stop. \nArrive at your final destination by 8.15pm for coffee & dessert at the Wauchope Art Gallery\, where you can take in the Salon des Refuses Exhibition and make your final bids in the Art Auction!
URL:https://wauchopechamber.com.au/event/culinary-canvas-progressive-dinner-art-auction/
LOCATION:Wauchope Art Gallery\, 62 Cameron St\, Wauchope\, NSW\, 2446\, Australia
CATEGORIES:Community Event,Gallery
ATTACH;FMTTYPE=image/png:https://wauchopechamber.com.au/wp-content/uploads/2022/06/FB-TILE-CULINARY-300x251-1.png
ORGANIZER;CN="Wauchope Chamber":MAILTO:wauchopechamber@gmail.com
END:VEVENT
BEGIN:VEVENT
DTSTART;TZID=Australia/Sydney:20220612T100000
DTEND;TZID=Australia/Sydney:20220612T140000
DTSTAMP:20260422T133903
CREATED:20220607T031009Z
LAST-MODIFIED:20220607T031332Z
UID:1734-1655028000-1655042400@wauchopechamber.com.au
SUMMARY:ART IN THE PARK\, Sun 12 June 10am\,-2pm
DESCRIPTION:As part of the Creative Wauchope Festival we are holding a little â€˜doâ€™ in Bain Park Wauchope on Sunday 12th June 2022 in Bain Park from 10am to 2pm. \nThere will be a community mural project led by local Artist Jo Davidson\, where everyone can take part in bringing the mural to life.Â Come down and enjoy a casual day in the park with live music\, stalls\, demos and creative workshops. \nArtists\, Makers and other creatives can Book a stall\, demo or hold a workshop on the day â€“ Register here!
URL:https://wauchopechamber.com.au/event/art-in-the-park-sun-12-june-10am-2pm/
LOCATION:Bain Park\, High St\, Wauchope\, NSW\, 2446\, Australia
CATEGORIES:Community Event
ATTACH;FMTTYPE=image/png:https://wauchopechamber.com.au/wp-content/uploads/2022/06/FB-TILE-ARTPARK-300x251-1.png
ORGANIZER;CN="Wauchope Chamber":MAILTO:wauchopechamber@gmail.com
END:VEVENT
END:VCALENDAR