BEGIN:VCALENDAR
VERSION:2.0
PRODID:-//Wauchope Chamber - ECPv6.9.1//NONSGML v1.0//EN
CALSCALE:GREGORIAN
METHOD:PUBLISH
X-ORIGINAL-URL:https://wauchopechamber.com.au
X-WR-CALDESC:Events for Wauchope Chamber
REFRESH-INTERVAL;VALUE=DURATION:PT1H
X-Robots-Tag:noindex
X-PUBLISHED-TTL:PT1H
BEGIN:VTIMEZONE
TZID:Australia/Sydney
BEGIN:STANDARD
TZOFFSETFROM:+1100
TZOFFSETTO:+1000
TZNAME:AEST
DTSTART:20220402T160000
END:STANDARD
BEGIN:DAYLIGHT
TZOFFSETFROM:+1000
TZOFFSETTO:+1100
TZNAME:AEDT
DTSTART:20221001T160000
END:DAYLIGHT
END:VTIMEZONE
BEGIN:VEVENT
DTSTART;VALUE=DATE:20220429
DTEND;VALUE=DATE:20220502
DTSTAMP:20260422T151246
CREATED:20220414T013236Z
LAST-MODIFIED:20220414T013236Z
UID:1558-1651190400-1651449599@wauchopechamber.com.au
SUMMARY:For Earthâ€™s Sake Art Exhibition
DESCRIPTION:Climate Change Australia (CCA) is holding an art exhibition of works by local artists from the Hastings & Mid North Coast. The theme of the exhibition is â€˜What Climate Change Means to Meâ€™ and will feature the participating artistsâ€™ representation of\, or response to\, our changing climate. \nYouâ€™re all invited:\nDates: Friday 29th April\, Saturday 30th April\, Sunday 1st May\nTime: 10am â€“ 4pm each day\nWhere: Wauchope Art Gallery\, 62 Cameron Street\, Wauchope\nWho: everyone is welcome â€“ bring your family & friends\nCost: gold coin donation \nCome along and check out the artwork â€“ and then vote for your favourite piece.\nWhy not make a day of it and have coffee/lunch at one of the several cafes in Wauchope? \n\n\n\n\n\n29 Apr – 01 May\, 2022\nÂ 10:00 am – 4:00 pm \nÂ Gold coin donation \nWauchope Art Gallery \nÂ 0405126704 \nÂ flmosborn@gmail.com \nÂ Facebook
URL:https://wauchopechamber.com.au/event/for-earths-sake-art-exhibition/
LOCATION:Wauchope Art Gallery\, 62 Cameron St\, Wauchope\, NSW\, 2446\, Australia
CATEGORIES:Gallery
ATTACH;FMTTYPE=image/jpeg:https://wauchopechamber.com.au/wp-content/uploads/2022/04/Art-poster-FINAL-copy.jpg
ORGANIZER;CN="Climate Change Australia":MAILTO:Â flmosborn@gmail.com
END:VEVENT
BEGIN:VEVENT
DTSTART;TZID=Australia/Sydney:20220514T100000
DTEND;TZID=Australia/Sydney:20220514T140000
DTSTAMP:20260422T151246
CREATED:20220509T011914Z
LAST-MODIFIED:20220509T022504Z
UID:1681-1652522400-1652536800@wauchopechamber.com.au
SUMMARY:Fire and Rescue NSW Station 492 Wauchopeï»¿ OPEN DAY
DESCRIPTION:OPEN DAY 2022\nCome and meet your local firefighters and learn about home fire safety at the Fire and Rescue NSW (FRNSW) Open Day on Saturday\, 14 May 2022. \nMany fire stations across NSW will be throwing open their doors between 10.00 am and 2.00 pm to showcase FRNSWâ€™s broad capabilities. \nChildren will be able to see a fire truck\, demonstrations and firefighting equipment whilst the grown-ups will be able to find out more about home fire safety. \nFire Station Open Day\nSaturday\, 14 May 2022 \n10am – 2pm
URL:https://wauchopechamber.com.au/event/fire-and-rescue-nsw-station-492-wauchope%ef%bb%bf-open-day/
LOCATION:Fire and Rescue NSW Station 492 Wauchope\, 18-20 Young St Wauchope\, Wauchope\, NSW\, 2446\, Australia
ATTACH;FMTTYPE=image/jpeg:https://wauchopechamber.com.au/wp-content/uploads/2022/05/wAUCHOPE-fIRE-AND-rESCUE.jpg
END:VEVENT
BEGIN:VEVENT
DTSTART;TZID=Australia/Sydney:20220516T180000
DTEND;TZID=Australia/Sydney:20220516T200000
DTSTAMP:20260422T151246
CREATED:20220505T030836Z
LAST-MODIFIED:20220512T045836Z
UID:1643-1652724000-1652731200@wauchopechamber.com.au
SUMMARY:Meet the Candidates for Lyne - Wauchope Chamber Evening
DESCRIPTION:Come along to the Meet the Candidates evening to learn more about our local candidates and what they feel are the important issues for business. \nThe evening will commence from 6pm with each attending candidate providing a brief introduction\, followed by a question and answer session. \nRegistrations are essential. Attendees are asked to provide any questions they may have for candidates in their registration. This information will be used to prepare questions for the candidates to respond to on the night. \nRSVP’S Essential – Register for free via the link below. \nREGISTER HERE!
URL:https://wauchopechamber.com.au/event/meet-the-candidates-for-lyne-wauchope-chamber-evening/
LOCATION:Wauchope Country Club\, King St\, Wauchope\, NSW\, 2446\, Australia
CATEGORIES:Business Event,Chamber Event
ATTACH;FMTTYPE=image/png:https://wauchopechamber.com.au/wp-content/uploads/2022/05/2022-Meet-the-Candidates-WCCI.png
ORGANIZER;CN="Wauchope Chamber":MAILTO:wauchopechamber@gmail.com
END:VEVENT
END:VCALENDAR