BEGIN:VCALENDAR
VERSION:2.0
PRODID:-//Wauchope Chamber - ECPv6.9.1//NONSGML v1.0//EN
CALSCALE:GREGORIAN
METHOD:PUBLISH
X-ORIGINAL-URL:https://wauchopechamber.com.au
X-WR-CALDESC:Events for Wauchope Chamber
REFRESH-INTERVAL;VALUE=DURATION:PT1H
X-Robots-Tag:noindex
X-PUBLISHED-TTL:PT1H
BEGIN:VTIMEZONE
TZID:Australia/Sydney
BEGIN:STANDARD
TZOFFSETFROM:+1100
TZOFFSETTO:+1000
TZNAME:AEST
DTSTART:20220402T160000
END:STANDARD
BEGIN:DAYLIGHT
TZOFFSETFROM:+1000
TZOFFSETTO:+1100
TZNAME:AEDT
DTSTART:20221001T160000
END:DAYLIGHT
END:VTIMEZONE
BEGIN:VEVENT
DTSTART;VALUE=DATE:20220401
DTEND;VALUE=DATE:20220428
DTSTAMP:20260422T164715
CREATED:20220414T001313Z
LAST-MODIFIED:20220414T025536Z
UID:1536-1648771200-1651103999@wauchopechamber.com.au
SUMMARY:PrussingArt Exhibition 1-27 April
DESCRIPTION:Tuesday â€“ Saturday 10am-4pm. April 1-27\nWauchope Art Gallery\, 62 Cameron St\, Wauchope \nThe PrussingArt Exhibition features a variety of works; local beach scenes in her distinct palette knife style\, her popular life-size koala paintings\, pieces from the Festival of Sydneyâ€™s Dung Well Flung Exhibition and her impressive Archibald entry of Birpai elder Uncle Bill. \nRead more \nPrussingArt Events\n\n\n\n\n\n\n\n\n\nÂ Get Tickets – Evening with the Artist\, Thurs 21 April 6pm at the Wauchope Art Gallery\n\n  \n\nPaint & Sip Tickets – PrussingArt Paint & Sip â€“ MAKING WAVES\, Fri 22 April 6-9 pm at the Wauchope Art Gallery\n\nCheck out Facebook for the latest on the exhibition\, artistâ€™s talks\, demonstrations and events;\nWauchope Art Gallery:Â https://www.facebook.com/WauchopeArtGallery/\nPrussing Art:Â https://www.facebook.com/prussingart
URL:https://wauchopechamber.com.au/event/prussing-art-exhibition-1-27-april/
LOCATION:Wauchope Art Gallery\, 62 Cameron St\, Wauchope\, NSW\, 2446\, Australia
CATEGORIES:Gallery
ATTACH;FMTTYPE=image/jpeg:https://wauchopechamber.com.au/wp-content/uploads/2022/04/Prussing-Art-Exhibition.jpg
END:VEVENT
BEGIN:VEVENT
DTSTART;TZID=Australia/Sydney:20220421T180000
DTEND;TZID=Australia/Sydney:20220421T193000
DTSTAMP:20260422T164715
CREATED:20220414T002302Z
LAST-MODIFIED:20220419T003811Z
UID:1543-1650564000-1650569400@wauchopechamber.com.au
SUMMARY:Cancelled - Evening with the Artist - Leanne Prussing
DESCRIPTION:Please note due to unforeseen circumstances this event has been cancelled.\nJoin us for an â€œEvening with the Artistâ€ as we explore the life and art of Leanne Prussing! \nMark the diary for Thursday 21st April 2022\, 6pm at the Wauchope Art Gallery Cameron St Wauchope for a fun evening lead by Curator Vivienne Hazenveld. \nVivienne will lead the interview style discussion with Leanne sharing her life as an artist and even some â€œSecret Artists Businessâ€ as Leanne puts it. \nCheck out Facebook for the latest on the exhibition\, artistâ€™s talks\, demonstrations and events;\nWauchope Art Gallery:Â https://www.facebook.com/WauchopeArtGallery/\nPrussing Art:Â https://www.facebook.com/prussingart \n\n\n\n\n\nGet Tickets
URL:https://wauchopechamber.com.au/event/evening-with-the-artist-leanne-prussing/
LOCATION:Wauchope Art Gallery\, 62 Cameron St\, Wauchope\, NSW\, 2446\, Australia
CATEGORIES:Gallery
ATTACH;FMTTYPE=image/png:https://wauchopechamber.com.au/wp-content/uploads/2022/04/Evening-with-LeanneFB-1.png
END:VEVENT
BEGIN:VEVENT
DTSTART;VALUE=DATE:20220422
DTEND;VALUE=DATE:20220424
DTSTAMP:20260422T164715
CREATED:20220414T010831Z
LAST-MODIFIED:20220414T012650Z
UID:1551-1650585600-1650758399@wauchopechamber.com.au
SUMMARY:Wauchope Show
DESCRIPTION:
URL:https://wauchopechamber.com.au/event/wauchope-show/
LOCATION:Wauchope Showground\, 93A High St\,\, Wauchope\, NSW\, 2446\, Australia
CATEGORIES:Community Event
ATTACH;FMTTYPE=image/png:https://wauchopechamber.com.au/wp-content/uploads/2022/04/wAUCHOPE-sHOW-2022.png
ORGANIZER;CN="Wauchope Show Society":MAILTO:wauchopeshowsociety@bigpond.com
END:VEVENT
BEGIN:VEVENT
DTSTART;TZID=Australia/Sydney:20220426T180000
DTEND;TZID=Australia/Sydney:20220426T210000
DTSTAMP:20260422T164715
CREATED:20220414T001433Z
LAST-MODIFIED:20220419T000948Z
UID:1538-1650996000-1651006800@wauchopechamber.com.au
SUMMARY:PrussingArt Paint & Sip â€“ MAKING WAVES
DESCRIPTION:PrussingArt Paint & Sip â€“ MAKING WAVES\ndate change: Tuesday 26 April 6- 9 pmÂ at the Wauchope Art Gallery \n\nA step by step instruction paint and sip class covering: \n\nCome and sit amongst the Prussingart exhibition in the beautiful new Wauchope Gallery.\nA step by step paint and sip class covering: drawing construction\,brush\, finger\, and secret palette knife techniques.\n\nAll art materials and aprons included\, cost per head/ticket is $55. \n(This is an adult class suitable for kids over 10 with adult supervision. ) \n\nPaint & Sip Tickets
URL:https://wauchopechamber.com.au/event/1538/
LOCATION:Wauchope Art Gallery\, 62 Cameron St\, Wauchope\, NSW\, 2446\, Australia
CATEGORIES:Gallery
ATTACH;FMTTYPE=image/jpeg:https://wauchopechamber.com.au/wp-content/uploads/2022/04/Waves-Wauchope.jpg
END:VEVENT
BEGIN:VEVENT
DTSTART;TZID=Australia/Sydney:20220428T180000
DTEND;TZID=Australia/Sydney:20220428T200000
DTSTAMP:20260422T164715
CREATED:20220422T014345Z
LAST-MODIFIED:20220422T014345Z
UID:1610-1651168800-1651176000@wauchopechamber.com.au
SUMMARY:Community Panel Discussion - Climate. "A Sensible Approach to Climate: What does our community think?"
DESCRIPTION:This public forum is an opportunity to explore the ample common ground and areas of disagreementÂ on this important issue\, practicingÂ respectful climate change discussion as a constructive basis for moving forward as we move forward.Â OurÂ Panelists are localsÂ from diverse political leanings and walks of life\, bringing in different perspectives\, concerns\, and solutions. \nWHO? Â  Â Â  \nMC:Â Ross Cargill\,Â Managing Director of Men and Women at Work. \nPanelÂ Facilitator:Â Jane Evans\,Â Adjunct Senior Lecturer at CSU.Â  \nPanelists: \n\nÂ Â Leslie Williams – Port Macquarie State Member of Parliament\nÂ  Â  Â  DrÂ Gordon Burch – Former SCAS Chairman\, Comboyne community groups.\nÂ Â Â Â Â Â Theresa Cochrane â€“ Proud young Dunghutti Gumbaynggirr woman studying environmental science and management at CSU\nÂ  Â  Â  DrÂ Angela Frimberger – PM Chamber of Commerce\, Deputy ChairÂ VeterinariansÂ for Climate Action\nÂ Â Â Â Â Â Peter Johnson â€“ Board Member of Eco-Tourism Australia\, owner Diamond Waters Eco Resort\, Camden Haven\nÂ Â Â Â Â Â Georgia Ritchie â€“ Medical Oncologist at MNCLHD Cancer Institute\nÂ Â Â Â Â Â Brian Tierney â€“ Long-time local developer and active community member\n\nWhy now?Â Community members may be aware that Port Macquarie-Â HastingsÂ Council has recently rescinded its previous Climate Emergency Declaration. However\, fewer people know that Council is moving toward revoking Council’s general Climate Policy. Â This prompted several Councillors (Sheppard\, Lipovac\, Edwards and Intemann)Â to organise a respectful and fact-basedÂ community discussion on climate in the local context\, as a basis forÂ constructive action into the future. (**Please note that this is not a â€˜Councilâ€™ event. Rather\, these Councillors consider this issue is of sufficient community interest that this event is organised independently.**) \nQuestions with Notice from the Audience: Please emailÂ pmhdiscussionpanel@gmail.comÂ for consideration of your questions.
URL:https://wauchopechamber.com.au/event/community-panel-discussion-climate-a-sensible-approach-to-climate-what-does-our-community-think/
LOCATION:St Columba Anglican School Chapel\, 3 Iona Ave\,\, Port Macquarie\, NSW\, 2444\, Australia
CATEGORIES:Community Event
ATTACH;FMTTYPE=image/png:https://wauchopechamber.com.au/wp-content/uploads/2022/04/cca-pANEL.png
END:VEVENT
BEGIN:VEVENT
DTSTART;VALUE=DATE:20220429
DTEND;VALUE=DATE:20220502
DTSTAMP:20260422T164715
CREATED:20220414T013236Z
LAST-MODIFIED:20220414T013236Z
UID:1558-1651190400-1651449599@wauchopechamber.com.au
SUMMARY:For Earthâ€™s Sake Art Exhibition
DESCRIPTION:Climate Change Australia (CCA) is holding an art exhibition of works by local artists from the Hastings & Mid North Coast. The theme of the exhibition is â€˜What Climate Change Means to Meâ€™ and will feature the participating artistsâ€™ representation of\, or response to\, our changing climate. \nYouâ€™re all invited:\nDates: Friday 29th April\, Saturday 30th April\, Sunday 1st May\nTime: 10am â€“ 4pm each day\nWhere: Wauchope Art Gallery\, 62 Cameron Street\, Wauchope\nWho: everyone is welcome â€“ bring your family & friends\nCost: gold coin donation \nCome along and check out the artwork â€“ and then vote for your favourite piece.\nWhy not make a day of it and have coffee/lunch at one of the several cafes in Wauchope? \n\n\n\n\n\n29 Apr – 01 May\, 2022\nÂ 10:00 am – 4:00 pm \nÂ Gold coin donation \nWauchope Art Gallery \nÂ 0405126704 \nÂ flmosborn@gmail.com \nÂ Facebook
URL:https://wauchopechamber.com.au/event/for-earths-sake-art-exhibition/
LOCATION:Wauchope Art Gallery\, 62 Cameron St\, Wauchope\, NSW\, 2446\, Australia
CATEGORIES:Gallery
ATTACH;FMTTYPE=image/jpeg:https://wauchopechamber.com.au/wp-content/uploads/2022/04/Art-poster-FINAL-copy.jpg
ORGANIZER;CN="Climate Change Australia":MAILTO:Â flmosborn@gmail.com
END:VEVENT
END:VCALENDAR