BEGIN:VCALENDAR
VERSION:2.0
PRODID:-//Wauchope Chamber - ECPv6.9.1//NONSGML v1.0//EN
CALSCALE:GREGORIAN
METHOD:PUBLISH
X-WR-CALNAME:Wauchope Chamber
X-ORIGINAL-URL:https://wauchopechamber.com.au
X-WR-CALDESC:Events for Wauchope Chamber
REFRESH-INTERVAL;VALUE=DURATION:PT1H
X-Robots-Tag:noindex
X-PUBLISHED-TTL:PT1H
BEGIN:VTIMEZONE
TZID:Australia/Sydney
BEGIN:STANDARD
TZOFFSETFROM:+1100
TZOFFSETTO:+1000
TZNAME:AEST
DTSTART:20220402T160000
END:STANDARD
BEGIN:DAYLIGHT
TZOFFSETFROM:+1000
TZOFFSETTO:+1100
TZNAME:AEDT
DTSTART:20221001T160000
END:DAYLIGHT
END:VTIMEZONE
BEGIN:VEVENT
DTSTART;TZID=Australia/Sydney:20220216T080000
DTEND;TZID=Australia/Sydney:20220216T170000
DTSTAMP:20260422T102131
CREATED:20220209T015405Z
LAST-MODIFIED:20220211T010555Z
UID:1237-1644998400-1645030800@wauchopechamber.com.au
SUMMARY:Business Incubator Program Commences - sign up now!
DESCRIPTION:Business Incubator Program\n\n\n\n\n\nWe all have an idea of where we want our business or business idea to go\, and now is the time to have those burning questions answered and move your business forward!\n\nThe Business Incubator Program is open to new and existing businesses from across the Hastings region across Manufacturing\, Agribusiness\, Creative Industries and Tourism.\n\nWhether you have a business idea\, are a start up or simply looking to expand your business knowledge and networks\, the incubator program can help you along your business journey.\nThe first Incubator Series will commence in February 2022 and will run for a short\, sharp 6 weeks!\n\nEach week participants will explore one of five key business topics including:\n1. Finance\,\n2. Marketing\,\n3. People & culture\,\n4. Risk & resilience\,\n5. Innovation\nThe program includes workshops\, peer sessions and six mentoring sessions.\n\nParticipants will attend workshops both online and in person and take up tasks & activities as part of the program.Â On average it is expected the commitment is approx 2-3 hours per week. The program will be based at the Wauchope Business Hub and Art Gallery at 62 Cameron St Wauchope NSW 2446.\n\nPart of the Hastings Business Stimulus Project. This is Local Economic Recovery project is jointly funded by the Commonwealth and the New South Wales Government under the Disaster Recovery Funding Arrangements.\n\n\n\n\n\n\n\n\n\n\n\n\n\n\n\n\nRegister here: Business Incubator Application Form\n\n\n\n\n\n\n\n\n\n\n\n\n\n\n\n\n\nParticipants will be expected to attend workshops both online and in person and complete any tasks or activities as part of the program to the best of their ability. On average it is expected the commitment is approx 2 hours per week. The program will be based at the Wauchope Business Hub and Art Gallery at 62 Cameron St Wauchope NSW 2446.
URL:https://wauchopechamber.com.au/event/business-incubator-program-commences-sign-up-now/
LOCATION:NSW
CATEGORIES:Business Event,Chamber Event
ATTACH;FMTTYPE=image/png:https://wauchopechamber.com.au/wp-content/uploads/2021/12/Bus-Stimulus-Project.png
END:VEVENT
END:VCALENDAR