BEGIN:VCALENDAR
VERSION:2.0
PRODID:-//Wauchope Chamber - ECPv6.9.1//NONSGML v1.0//EN
CALSCALE:GREGORIAN
METHOD:PUBLISH
X-WR-CALNAME:Wauchope Chamber
X-ORIGINAL-URL:https://wauchopechamber.com.au
X-WR-CALDESC:Events for Wauchope Chamber
REFRESH-INTERVAL;VALUE=DURATION:PT1H
X-Robots-Tag:noindex
X-PUBLISHED-TTL:PT1H
BEGIN:VTIMEZONE
TZID:Australia/Sydney
BEGIN:STANDARD
TZOFFSETFROM:+1100
TZOFFSETTO:+1000
TZNAME:AEST
DTSTART:20230401T160000
END:STANDARD
BEGIN:DAYLIGHT
TZOFFSETFROM:+1000
TZOFFSETTO:+1100
TZNAME:AEDT
DTSTART:20230930T160000
END:DAYLIGHT
END:VTIMEZONE
BEGIN:VEVENT
DTSTART;TZID=Australia/Sydney:20230515T090000
DTEND;TZID=Australia/Sydney:20230515T170000
DTSTAMP:20260421T181432
CREATED:20230426T033121Z
LAST-MODIFIED:20230426T033121Z
UID:4349-1684141200-1684170000@wauchopechamber.com.au
SUMMARY:Health & Safety Representative (HSR) Training - One Day Refresher Course
DESCRIPTION:Update your work health & safety skills in your business and come along to a one-day health & safety refresher course with Graham Morgan of Morgan Human Resource Management. \nThis course aims to build knowledge and skills relating to all things health & safety! \nIt is perfect for staff training\, health & safety reps\, health & safety committee members\, business owners and managers. \nThis course is usually $385 – but due to grant funding\, we are able to provide the course for just $55 per person! \n* 15 May 2023\n* Starting at 9.00am\n* Wauchope Art Gallery\, 62 Cameron Street\, Wauchope \nRegister yourself or a staff member now!
URL:https://wauchopechamber.com.au/event/health-safety-representative-hsr-training-one-day-refresher-course/
LOCATION:Wauchope Art Gallery and Business Centre\, 62 Cameron St\, Wauchope\, NSW\, 2446\, Australia
ATTACH;FMTTYPE=image/png:https://wauchopechamber.com.au/wp-content/uploads/2023/04/Tile.png
ORGANIZER;CN="Wauchope Chamber of Commerce and Industry Inc":MAILTO:wauchopechamber@gmail.com
END:VEVENT
END:VCALENDAR