BEGIN:VCALENDAR
VERSION:2.0
PRODID:-//Wauchope Chamber - ECPv6.9.1//NONSGML v1.0//EN
CALSCALE:GREGORIAN
METHOD:PUBLISH
X-WR-CALNAME:Wauchope Chamber
X-ORIGINAL-URL:https://wauchopechamber.com.au
X-WR-CALDESC:Events for Wauchope Chamber
REFRESH-INTERVAL;VALUE=DURATION:PT1H
X-Robots-Tag:noindex
X-PUBLISHED-TTL:PT1H
BEGIN:VTIMEZONE
TZID:Australia/Sydney
BEGIN:STANDARD
TZOFFSETFROM:+1100
TZOFFSETTO:+1000
TZNAME:AEST
DTSTART:20230401T160000
END:STANDARD
BEGIN:DAYLIGHT
TZOFFSETFROM:+1000
TZOFFSETTO:+1100
TZNAME:AEDT
DTSTART:20230930T160000
END:DAYLIGHT
END:VTIMEZONE
BEGIN:VEVENT
DTSTART;TZID=Australia/Sydney:20230303T170000
DTEND;TZID=Australia/Sydney:20230303T200000
DTSTAMP:20260421T210502
CREATED:20230301T232641Z
LAST-MODIFIED:20230301T232922Z
UID:3852-1677862800-1677873600@wauchopechamber.com.au
SUMMARY:Purple BIKE NIGHT
DESCRIPTION:Friday 3rd March its Purple BIKE NIGHT At Oxley Automotive Repairs in Brandson st Wauchope from 5pm to about 8pm\, As the Wauchope Lasiandra Festival kicks off we are having a Purple themed BIKE NIGHT so if you can wear something Purple or tie something Purple to ya Bike or just get involved Purply.\nCappo’s Food Truck will be there.\nThis is a Great opportunity to get your bike out and catch up with ya mates\, meet some new ppl\, Look at Bikes\, Talk about bikes and just have a great biking night.\nSo get yourself along and support Motorcycle Friendly Wauchope!
URL:https://wauchopechamber.com.au/event/purple-bike-night/
LOCATION:Oxley Automotive Repairs\, Brandson St\, Wauchope\, NSW\, 2446\, Australia
CATEGORIES:Community Event,Motorcycle Friendly Town Wauchope
ATTACH;FMTTYPE=image/jpeg:https://wauchopechamber.com.au/wp-content/uploads/2023/03/Purple-bike-night-March-2023.jpg
END:VEVENT
END:VCALENDAR