BEGIN:VCALENDAR
VERSION:2.0
PRODID:-//Wauchope Chamber - ECPv6.9.1//NONSGML v1.0//EN
CALSCALE:GREGORIAN
METHOD:PUBLISH
X-ORIGINAL-URL:https://wauchopechamber.com.au
X-WR-CALDESC:Events for Wauchope Chamber
REFRESH-INTERVAL;VALUE=DURATION:PT1H
X-Robots-Tag:noindex
X-PUBLISHED-TTL:PT1H
BEGIN:VTIMEZONE
TZID:Australia/Sydney
BEGIN:STANDARD
TZOFFSETFROM:+1100
TZOFFSETTO:+1000
TZNAME:AEST
DTSTART:20220402T160000
END:STANDARD
BEGIN:DAYLIGHT
TZOFFSETFROM:+1000
TZOFFSETTO:+1100
TZNAME:AEDT
DTSTART:20221001T160000
END:DAYLIGHT
END:VTIMEZONE
BEGIN:VEVENT
DTSTART;VALUE=DATE:20221116
DTEND;VALUE=DATE:20221211
DTSTAMP:20260422T030522
CREATED:20221124T231812Z
LAST-MODIFIED:20221124T231812Z
UID:3229-1668556800-1670716799@wauchopechamber.com.au
SUMMARY:Three Women from the Bush Exhibition
DESCRIPTION:Three Women from the Bush â€“ Friends\, Artists\, Activists \nVisit Wauchope Gallery from November 16th until December 10th to view this great exhibition. \nRecent works by Hastings artists Jacky Beckhurst\, Jo Davidson and Colleen Werner will be on display including drawings\, paintings\, prints and textiles. \nAll artists are long term residents of the Upper Hastings\, these three friends\, artists and activists have been inspired by our beautiful country and each other for the last 35 years\, be it through the Bagnoo print making workshop run by artist Tarpie Watts\, exhibitions at the Glasshouse in Port Macquarie and Blue Poles Byabarra\, workshops for Wauchope Arts and Aquasculpture or years of teaching art at TAFE.\nJacky Beckhurst\, Jo Davidson and Colleen Werner have witnessed and endured first hand the ravages of drought\, fire\, floods and the pandemic\, as neighbours whole heartedly committed to the preservation and protection of our Land. Their art speaks of this dedication and love of Country\, and a clear choice to live amongst and experience the natural world. \nPlease join the artists at the official opening on Sat 19th November from 11am-1.00pm with Councillor Lisa Intemann officially opening the exhibition at 11am. \nVisit the Gallery on 19th of November\, 26th of November\, 3rd of December and 10th of December to meet the artists!
URL:https://wauchopechamber.com.au/event/three-women-from-the-bush-exhibition/
LOCATION:Wauchope Art Gallery\, 62 Cameron St\, Wauchope\, NSW\, 2446\, Australia
CATEGORIES:Gallery,Wauchope Art Gallery
ATTACH;FMTTYPE=image/jpeg:https://wauchopechamber.com.au/wp-content/uploads/2022/11/3-women-from-the-bush_.jpg
ORGANIZER;CN="Wauchope Art Gallery":MAILTO:wauchopechamber@gmail.com
END:VEVENT
BEGIN:VEVENT
DTSTART;TZID=Australia/Sydney:20221202T150000
DTEND;TZID=Australia/Sydney:20221202T210000
DTSTAMP:20260422T030522
CREATED:20221124T210405Z
LAST-MODIFIED:20221124T210506Z
UID:3213-1669993200-1670014800@wauchopechamber.com.au
SUMMARY:Beechwood Community Christmas Event
DESCRIPTION:Beechwood P&C are hosting a community connection event – bringing our community together after more than two years of being apart.\nThis event is for everyone – free entry\, free entertainment\, food vans to purchase from\, children’s entertainment and activities\, and more. \nBeechwood Public School will be providing a performance at 6pm and there’s likely to be a jolly man in red show up too.\nWe are also on the look out for people who would like to come on board and support our community at this event. \nAny community groups who would like to participate in some way\, please get in touch with them – they want this event to support all community members!
URL:https://wauchopechamber.com.au/event/beechwood-community-christmas-event/
LOCATION:Beechwood Recreation Reserve\, Bellangry Road\, Beechwood\, Australia
CATEGORIES:Community Event
ATTACH;FMTTYPE=image/jpeg:https://wauchopechamber.com.au/wp-content/uploads/2022/11/Beechwood-Community-Christmas.jpg
ORGANIZER;CN="Beechwood Primary P&C":MAILTO:beechwoodpandc@gmail.com
END:VEVENT
END:VCALENDAR