BEGIN:VCALENDAR
VERSION:2.0
PRODID:-//Wauchope Chamber - ECPv6.9.1//NONSGML v1.0//EN
CALSCALE:GREGORIAN
METHOD:PUBLISH
X-WR-CALNAME:Wauchope Chamber
X-ORIGINAL-URL:https://wauchopechamber.com.au
X-WR-CALDESC:Events for Wauchope Chamber
REFRESH-INTERVAL;VALUE=DURATION:PT1H
X-Robots-Tag:noindex
X-PUBLISHED-TTL:PT1H
BEGIN:VTIMEZONE
TZID:Australia/Sydney
BEGIN:STANDARD
TZOFFSETFROM:+1100
TZOFFSETTO:+1000
TZNAME:AEST
DTSTART:20220402T160000
END:STANDARD
BEGIN:DAYLIGHT
TZOFFSETFROM:+1000
TZOFFSETTO:+1100
TZNAME:AEDT
DTSTART:20221001T160000
END:DAYLIGHT
END:VTIMEZONE
BEGIN:VEVENT
DTSTART;VALUE=DATE:20220913
DTEND;VALUE=DATE:20220925
DTSTAMP:20260422T110241
CREATED:20220908T034243Z
LAST-MODIFIED:20220908T034243Z
UID:2191-1663027200-1664063999@wauchopechamber.com.au
SUMMARY:MOTOFEST Exhibition - Wauchope Art Gallery
DESCRIPTION:The annual MOTOFEST event is on again on Saturday 17 September 2022 at the Wauchope Showground\, for the 6th Anniversary Celebration of our Motorcycle Friendly Town of Wauchope!\n\nIn collaboration with MOTOFEST\, Wauchope Art Gallery will be showcasing an exhibition all things motorcycles! This will include 2D and 3D art\, sculptures and many more exciting displays! This is not to be missed!\n\nDrop into the Wauchope Art Gallery between 13 September and 24 September to view this unique exhibition!
URL:https://wauchopechamber.com.au/event/motofest-exhibition-wauchope-art-gallery/
LOCATION:Wauchope Art Gallery\, 62 Cameron St\, Wauchope\, NSW\, 2446\, Australia
ATTACH;FMTTYPE=image/png:https://wauchopechamber.com.au/wp-content/uploads/2022/09/MOTOFEST-Tile.png
END:VEVENT
END:VCALENDAR