BEGIN:VCALENDAR
VERSION:2.0
PRODID:-//Wauchope Chamber - ECPv6.9.1//NONSGML v1.0//EN
CALSCALE:GREGORIAN
METHOD:PUBLISH
X-WR-CALNAME:Wauchope Chamber
X-ORIGINAL-URL:https://wauchopechamber.com.au
X-WR-CALDESC:Events for Wauchope Chamber
REFRESH-INTERVAL;VALUE=DURATION:PT1H
X-Robots-Tag:noindex
X-PUBLISHED-TTL:PT1H
BEGIN:VTIMEZONE
TZID:Australia/Sydney
BEGIN:STANDARD
TZOFFSETFROM:+1100
TZOFFSETTO:+1000
TZNAME:AEST
DTSTART:20220402T160000
END:STANDARD
BEGIN:DAYLIGHT
TZOFFSETFROM:+1000
TZOFFSETTO:+1100
TZNAME:AEDT
DTSTART:20221001T160000
END:DAYLIGHT
END:VTIMEZONE
BEGIN:VEVENT
DTSTART;VALUE=DATE:20220908
DTEND;VALUE=DATE:20220911
DTSTAMP:20260422T110210
CREATED:20220908T034047Z
LAST-MODIFIED:20220908T034328Z
UID:2189-1662595200-1662854399@wauchopechamber.com.au
SUMMARY:Patchwork Treasures Exhibition - Wauchope Art Gallery
DESCRIPTION:After a disappointing cancellation of the Wauchope Patchwork Quilters Quilt Show in 2021 due to COVID\, the Quilters are back with a new format! \nInstead of in just one location as it had been in the past\, the quilts will be displayed outside shops and in a number of venues: halls\, churches\, Wauchope Art Gallery\, the Department Store\, to name a few. Wauchope Patchwork Quilters see this as a chance to showcase\, not just their quilts but the town of Wauchope. \nTickets ($10) are available to be purchased at 3 locations: \n> Outside the Department Store in High Street \n> Outside the Wauchope Art Gallery in Cameron Street \n> In Bain Park off High Street \nFor your $10 entry fee you will receive a purple wrist band\, which will give you access to all six display venues over the three days. You will also receive a â€œgoodiesâ€ bag where you will find a map showing the locations of the display venues\, cafes\, public toilets. parking etc\, a copy of â€˜Discoverâ€™ magazine\, a discount voucher for use in the Department Store\, a free ticket in the mega raffle ($5)\, an entry form for the free guessing competition to be run in the Creative Hub and an entry wrist band. \nPlease come down to the Wauchope Art Gallery to view the Wauchope Patchwork Quilters â€œPatchwork Treasuresâ€ Exhibition! \nPatchwork Treasuresâ€ Exhibition will be at the Wauchope Art Gallery from 7 September 2022 until 10 September 2022.
URL:https://wauchopechamber.com.au/event/patchwork-treasures-exhibition-wauchope-art-gallery/
LOCATION:Wauchope Art Gallery\, 62 Cameron St\, Wauchope\, NSW\, 2446\, Australia
ATTACH;FMTTYPE=image/png:https://wauchopechamber.com.au/wp-content/uploads/2022/09/Updated-tile.png
END:VEVENT
END:VCALENDAR