BEGIN:VCALENDAR
VERSION:2.0
PRODID:-//Wauchope Chamber - ECPv6.9.1//NONSGML v1.0//EN
CALSCALE:GREGORIAN
METHOD:PUBLISH
X-WR-CALNAME:Wauchope Chamber
X-ORIGINAL-URL:https://wauchopechamber.com.au
X-WR-CALDESC:Events for Wauchope Chamber
REFRESH-INTERVAL;VALUE=DURATION:PT1H
X-Robots-Tag:noindex
X-PUBLISHED-TTL:PT1H
BEGIN:VTIMEZONE
TZID:Australia/Sydney
BEGIN:STANDARD
TZOFFSETFROM:+1100
TZOFFSETTO:+1000
TZNAME:AEST
DTSTART:20220402T160000
END:STANDARD
BEGIN:DAYLIGHT
TZOFFSETFROM:+1000
TZOFFSETTO:+1100
TZNAME:AEDT
DTSTART:20221001T160000
END:DAYLIGHT
END:VTIMEZONE
BEGIN:VEVENT
DTSTART;TZID=Australia/Sydney:20220827T180000
DTEND;TZID=Australia/Sydney:20220827T230000
DTSTAMP:20260422T122446
CREATED:20220718T225029Z
LAST-MODIFIED:20220720T021825Z
UID:2059-1661623200-1661641200@wauchopechamber.com.au
SUMMARY:Wauchope & Hinterland Business Awards Gala Dinner
DESCRIPTION:Join the celebration of local business at the Wauchope and Hinterland Business Awards Gala Dinner!
URL:https://wauchopechamber.com.au/event/awardsdinner/
LOCATION:Wauchope RSL Club\, Cnr Young &\, Cameron St\,\, Wauchope\, NSW\, 2446\, Australia
CATEGORIES:Business Event,Chamber Event
ATTACH;FMTTYPE=image/png:https://wauchopechamber.com.au/wp-content/uploads/2022/07/2022-WCCI-BUS-AWARDS-890-Ã—-320-px.png
ORGANIZER;CN="Wauchope Chamber of Commerce and Industry Inc":MAILTO:wauchopechamber@gmail.com
END:VEVENT
END:VCALENDAR