BEGIN:VCALENDAR
VERSION:2.0
PRODID:-//Wauchope Chamber - ECPv6.9.1//NONSGML v1.0//EN
CALSCALE:GREGORIAN
METHOD:PUBLISH
X-ORIGINAL-URL:https://wauchopechamber.com.au
X-WR-CALDESC:Events for Wauchope Chamber
REFRESH-INTERVAL;VALUE=DURATION:PT1H
X-Robots-Tag:noindex
X-PUBLISHED-TTL:PT1H
BEGIN:VTIMEZONE
TZID:Australia/Sydney
BEGIN:STANDARD
TZOFFSETFROM:+1100
TZOFFSETTO:+1000
TZNAME:AEST
DTSTART:20220402T160000
END:STANDARD
BEGIN:DAYLIGHT
TZOFFSETFROM:+1000
TZOFFSETTO:+1100
TZNAME:AEDT
DTSTART:20221001T160000
END:DAYLIGHT
END:VTIMEZONE
BEGIN:VEVENT
DTSTART;TZID=Australia/Sydney:20220428T180000
DTEND;TZID=Australia/Sydney:20220428T200000
DTSTAMP:20260422T164716
CREATED:20220422T014345Z
LAST-MODIFIED:20220422T014345Z
UID:1610-1651168800-1651176000@wauchopechamber.com.au
SUMMARY:Community Panel Discussion - Climate. "A Sensible Approach to Climate: What does our community think?"
DESCRIPTION:This public forum is an opportunity to explore the ample common ground and areas of disagreementÂ on this important issue\, practicingÂ respectful climate change discussion as a constructive basis for moving forward as we move forward.Â OurÂ Panelists are localsÂ from diverse political leanings and walks of life\, bringing in different perspectives\, concerns\, and solutions. \nWHO? Â  Â Â  \nMC:Â Ross Cargill\,Â Managing Director of Men and Women at Work. \nPanelÂ Facilitator:Â Jane Evans\,Â Adjunct Senior Lecturer at CSU.Â  \nPanelists: \n\nÂ Â Leslie Williams – Port Macquarie State Member of Parliament\nÂ  Â  Â  DrÂ Gordon Burch – Former SCAS Chairman\, Comboyne community groups.\nÂ Â Â Â Â Â Theresa Cochrane â€“ Proud young Dunghutti Gumbaynggirr woman studying environmental science and management at CSU\nÂ  Â  Â  DrÂ Angela Frimberger – PM Chamber of Commerce\, Deputy ChairÂ VeterinariansÂ for Climate Action\nÂ Â Â Â Â Â Peter Johnson â€“ Board Member of Eco-Tourism Australia\, owner Diamond Waters Eco Resort\, Camden Haven\nÂ Â Â Â Â Â Georgia Ritchie â€“ Medical Oncologist at MNCLHD Cancer Institute\nÂ Â Â Â Â Â Brian Tierney â€“ Long-time local developer and active community member\n\nWhy now?Â Community members may be aware that Port Macquarie-Â HastingsÂ Council has recently rescinded its previous Climate Emergency Declaration. However\, fewer people know that Council is moving toward revoking Council’s general Climate Policy. Â This prompted several Councillors (Sheppard\, Lipovac\, Edwards and Intemann)Â to organise a respectful and fact-basedÂ community discussion on climate in the local context\, as a basis forÂ constructive action into the future. (**Please note that this is not a â€˜Councilâ€™ event. Rather\, these Councillors consider this issue is of sufficient community interest that this event is organised independently.**) \nQuestions with Notice from the Audience: Please emailÂ pmhdiscussionpanel@gmail.comÂ for consideration of your questions.
URL:https://wauchopechamber.com.au/event/community-panel-discussion-climate-a-sensible-approach-to-climate-what-does-our-community-think/
LOCATION:St Columba Anglican School Chapel\, 3 Iona Ave\,\, Port Macquarie\, NSW\, 2444\, Australia
CATEGORIES:Community Event
ATTACH;FMTTYPE=image/png:https://wauchopechamber.com.au/wp-content/uploads/2022/04/cca-pANEL.png
END:VEVENT
END:VCALENDAR